Package: BgeeDB Version: 2.33.0 Command: rm -rf BgeeDB.buildbin-libdir && mkdir BgeeDB.buildbin-libdir && /Users/biocbuild/BBS/utils/build-universal.sh BgeeDB_2.33.0.tar.gz /Library/Frameworks/R.framework/Resources/bin/R BgeeDB.buildbin-libdir StartedAt: 2025-02-09 22:07:01 -0500 (Sun, 09 Feb 2025) EndedAt: 2025-02-09 22:07:18 -0500 (Sun, 09 Feb 2025) EllapsedTime: 17.3 seconds RetCode: 0 Status: OK PackageFile: BgeeDB_2.33.0.tgz PackageFileSize: 370.8 KiB