Package: BgeeDB Version: 2.33.0 Command: /Library/Frameworks/R.framework/Resources/bin/R CMD INSTALL BgeeDB StartedAt: 2025-02-09 15:12:48 -0500 (Sun, 09 Feb 2025) EndedAt: 2025-02-09 15:13:04 -0500 (Sun, 09 Feb 2025) EllapsedTime: 16.1 seconds RetCode: 0 Status: OK