Package: BgeeDB Version: 2.33.0 Command: /Library/Frameworks/R.framework/Resources/bin/R CMD build --keep-empty-dirs --no-resave-data BgeeDB StartedAt: 2025-02-09 16:00:19 -0500 (Sun, 09 Feb 2025) EndedAt: 2025-02-09 16:06:49 -0500 (Sun, 09 Feb 2025) EllapsedTime: 390.3 seconds RetCode: 0 Status: OK PackageFile: BgeeDB_2.33.0.tar.gz PackageFileSize: 106.7 KiB