Package: BgeeDB Version: 2.33.0 Command: /Library/Frameworks/R.framework/Resources/bin/R CMD INSTALL BgeeDB StartedAt: 2025-02-12 15:17:54 -0500 (Wed, 12 Feb 2025) EndedAt: 2025-02-12 15:18:45 -0500 (Wed, 12 Feb 2025) EllapsedTime: 50.6 seconds RetCode: 0 Status: OK