Package: BgeeDB Version: 2.33.0 Command: rm -rf BgeeDB.buildbin-libdir && mkdir BgeeDB.buildbin-libdir && E:\biocbuild\bbs-3.21-bioc\R\bin\R.exe CMD INSTALL --build --library=BgeeDB.buildbin-libdir BgeeDB_2.33.0.tar.gz StartedAt: 2025-02-10 07:16:47 -0500 (Mon, 10 Feb 2025) EndedAt: 2025-02-10 07:17:42 -0500 (Mon, 10 Feb 2025) EllapsedTime: 55.3 seconds RetCode: 0 Status: OK PackageFile: BgeeDB_2.33.0.zip PackageFileSize: 372.2 KiB