Package: BgeeDB Version: 2.33.0 Command: chmod a+r BgeeDB -R && E:\biocbuild\bbs-3.21-bioc\R\bin\R.exe CMD build --keep-empty-dirs --no-resave-data BgeeDB StartedAt: 2025-02-12 17:26:36 -0500 (Wed, 12 Feb 2025) EndedAt: 2025-02-12 17:31:35 -0500 (Wed, 12 Feb 2025) EllapsedTime: 299.0 seconds RetCode: 0 Status: OK PackageFile: BgeeDB_2.33.0.tar.gz PackageFileSize: 106.9 KiB