Package: BiRewire Version: 3.39.0 Command: /Library/Frameworks/R.framework/Resources/bin/R CMD INSTALL BiRewire StartedAt: 2025-02-12 15:01:54 -0500 (Wed, 12 Feb 2025) EndedAt: 2025-02-12 15:01:59 -0500 (Wed, 12 Feb 2025) EllapsedTime: 4.8 seconds RetCode: 0 Status: OK