Package: BiRewire Version: 3.39.0 Command: /home/biocbuild/bbs-3.21-bioc/R/bin/R CMD build --keep-empty-dirs --no-resave-data BiRewire StartedAt: 2025-02-09 16:25:37 -0500 (Sun, 09 Feb 2025) EndedAt: 2025-02-09 16:26:27 -0500 (Sun, 09 Feb 2025) EllapsedTime: 50.0 seconds RetCode: 0 Status: OK PackageFile: BiRewire_3.39.0.tar.gz PackageFileSize: 726.8 KiB