Package: BiRewire Version: 3.39.0 Command: /home/biocbuild/bbs-3.21-bioc/R/bin/R CMD check --install=check:BiRewire.install-out.txt --library=/home/biocbuild/bbs-3.21-bioc/R/site-library --timings BiRewire_3.39.0.tar.gz StartedAt: 2025-02-04 20:26:27 -0500 (Tue, 04 Feb 2025) EndedAt: 2025-02-04 20:29:37 -0500 (Tue, 04 Feb 2025) EllapsedTime: 190.3 seconds RetCode: 0 Status: WARNINGS CheckDir: BiRewire.Rcheck Warnings: 1