Package: BiRewire Version: 3.39.0 Command: rm -rf BiRewire.buildbin-libdir && mkdir BiRewire.buildbin-libdir && E:\biocbuild\bbs-3.21-bioc\R\bin\R.exe CMD INSTALL --build --library=BiRewire.buildbin-libdir BiRewire_3.39.0.tar.gz StartedAt: 2025-02-10 07:19:54 -0500 (Mon, 10 Feb 2025) EndedAt: 2025-02-10 07:20:33 -0500 (Mon, 10 Feb 2025) EllapsedTime: 39.2 seconds RetCode: 0 Status: OK PackageFile: BiRewire_3.39.0.zip PackageFileSize: 626.6 KiB