Package: BindingSiteFinder Version: 2.5.2 Command: /Library/Frameworks/R.framework/Resources/bin/R CMD build --keep-empty-dirs --no-resave-data BindingSiteFinder StartedAt: 2025-02-09 15:39:49 -0500 (Sun, 09 Feb 2025) EndedAt: 2025-02-09 15:40:45 -0500 (Sun, 09 Feb 2025) EllapsedTime: 56.6 seconds RetCode: 0 Status: OK PackageFile: BindingSiteFinder_2.5.2.tar.gz PackageFileSize: 2.839 MiB