Package: BindingSiteFinder Version: 2.5.2 Command: /Library/Frameworks/R.framework/Resources/bin/R CMD INSTALL BindingSiteFinder StartedAt: 2025-02-09 15:15:05 -0500 (Sun, 09 Feb 2025) EndedAt: 2025-02-09 15:15:23 -0500 (Sun, 09 Feb 2025) EllapsedTime: 17.4 seconds RetCode: 0 Status: OK