Package: BindingSiteFinder Version: 2.5.2 Command: /home/biocbuild/R/R/bin/R CMD check --install=check:BindingSiteFinder.install-out.txt --library=/home/biocbuild/R/R/site-library --no-vignettes --timings BindingSiteFinder_2.5.2.tar.gz StartedAt: 2025-01-28 03:50:54 -0000 (Tue, 28 Jan 2025) EndedAt: 2025-01-28 08:39:56 -0000 (Tue, 28 Jan 2025) EllapsedTime: 17341.4 seconds RetCode: None Status: TIMEOUT CheckDir: BindingSiteFinder.Rcheck Warnings: NA