Package: BindingSiteFinder Version: 2.5.2 Command: rm -rf BindingSiteFinder.buildbin-libdir && mkdir BindingSiteFinder.buildbin-libdir && /Users/biocbuild/BBS/utils/build-universal.sh BindingSiteFinder_2.5.2.tar.gz /Library/Frameworks/R.framework/Resources/bin/R BindingSiteFinder.buildbin-libdir StartedAt: 2025-02-10 00:43:27 -0500 (Mon, 10 Feb 2025) EndedAt: 2025-02-10 00:44:32 -0500 (Mon, 10 Feb 2025) EllapsedTime: 64.8 seconds RetCode: 0 Status: OK PackageFile: BindingSiteFinder_2.5.2.tgz PackageFileSize: 3.232 MiB