############################################################################## ############################################################################## ### ### Running command: ### ### /Library/Frameworks/R.framework/Resources/bin/R CMD check --install=check:BindingSiteFinder.install-out.txt --library=/Library/Frameworks/R.framework/Resources/library --no-vignettes --timings BindingSiteFinder_2.5.2.tar.gz ### ############################################################################## ############################################################################## * using log directory ‘/Users/biocbuild/bbs-3.21-bioc/meat/BindingSiteFinder.Rcheck’ * using R Under development (unstable) (2025-01-22 r87618) * using platform: x86_64-apple-darwin20 * R was compiled by Apple clang version 14.0.0 (clang-1400.0.29.202) GNU Fortran (GCC) 14.2.0 * running under: macOS Monterey 12.7.6 * using session charset: UTF-8 * using option ‘--no-vignettes’ * checking for file ‘BindingSiteFinder/DESCRIPTION’ ... OK * checking extension type ... Package * this is package ‘BindingSiteFinder’ version ‘2.5.2’ * package encoding: UTF-8 * checking package namespace information ... OK * checking package dependencies ... OK * checking if this is a source package ... OK * checking if there is a namespace ... OK * checking for hidden files and directories ... OK * checking for portable file names ... OK * checking for sufficient/correct file permissions ... OK * checking whether package ‘BindingSiteFinder’ can be installed ... OK * checking installed package size ... OK * checking package directory ... OK * checking ‘build’ directory ... OK * checking DESCRIPTION meta-information ... OK * checking top-level files ... OK * checking for left-over files ... OK * checking index information ... OK * checking package subdirectories ... OK * checking code files for non-ASCII characters ... OK * checking R files for syntax errors ... OK * checking whether the package can be loaded ... OK * checking whether the package can be loaded with stated dependencies ... OK * checking whether the package can be unloaded cleanly ... OK * checking whether the namespace can be loaded with stated dependencies ... OK * checking whether the namespace can be unloaded cleanly ... OK * checking dependencies in R code ... OK * checking S3 generic/method consistency ... OK * checking replacement functions ... OK * checking foreign function calls ... OK * checking R code for possible problems ... OK * checking Rd files ... OK * checking Rd metadata ... OK * checking Rd cross-references ... NOTE Found the following Rd file(s) with Rd \link{} targets missing package anchors: BSFind.Rd: GenomicRanges, CompressedGRangesList annotateWithScore.Rd: GenomicRanges assignToGenes.Rd: GenomicRanges, overlaps assignToTranscriptRegions.Rd: CompressedGRangesList, overlaps bindingSiteDefinednessPlot.Rd: ggplot calculateBsBackground.Rd: GenomicRanges duplicatedSitesPlot.Rd: ggplot estimateBsWidth.Rd: GenomicRanges estimateBsWidthPlot.Rd: ggplot geneOverlapsPlot.Rd: ggplot globalScorePlot.Rd: ggplot makeBsSummaryPlot.Rd: ggplot mergeCrosslinkDiagnosticsPlot.Rd: ggplot plotBsBackgroundFilter.Rd: ggplot plotBsMA.Rd: ggplot plotBsVolcano.Rd: ggplot processingStepsFlowChart.Rd: ggplot pureClipGeneWiseFilter.Rd: GenomicRanges, overlaps pureClipGlobalFilter.Rd: GenomicRanges pureClipGlobalFilterPlot.Rd: ggplot reproducibilityFilterPlot.Rd: ggplot reproducibilitySamplesPlot.Rd: ggplot targetGeneSpectrumPlot.Rd: ggplot transcriptRegionOverlapsPlot.Rd: ggplot transcriptRegionSpectrumPlot.Rd: ggplot Please provide package anchors for all Rd \link{} targets not in the package itself and the base packages. * checking for missing documentation entries ... OK * checking for code/documentation mismatches ... OK * checking Rd \usage sections ... OK * checking Rd contents ... OK * checking for unstated dependencies in examples ... OK * checking files in ‘vignettes’ ... OK * checking examples ... OK Examples with CPU (user + system) or elapsed time > 5s user system elapsed quickFigure 36.142 3.661 73.568 bindingSiteDefinednessPlot 37.772 0.733 50.699 BSFind 37.046 0.572 38.040 processingStepsFlowChart 29.980 2.927 42.360 calculateBsFoldChange 18.857 0.744 27.866 plotBsMA 14.481 1.455 19.656 estimateBsWidth 11.710 2.916 59.015 estimateBsWidthPlot 10.567 2.005 49.295 plotBsVolcano 12.048 0.464 14.344 bindingSiteCoveragePlot 11.333 0.582 12.053 filterBsBackground 5.868 4.226 45.154 rangeCoveragePlot 7.446 0.381 8.256 calculateBsBackground 6.458 0.121 9.205 supportRatioPlot 6.095 0.121 6.282 plotBsBackgroundFilter 5.220 0.638 13.220 combineBSF 3.222 0.135 5.112 geneOverlapsPlot 2.921 0.232 5.997 * checking for unstated dependencies in ‘tests’ ... OK * checking tests ... Running ‘testthat.R’ OK * checking for unstated dependencies in vignettes ... OK * checking package vignettes ... OK * checking running R code from vignettes ... SKIPPED * checking re-building of vignette outputs ... SKIPPED * checking PDF version of manual ... OK * DONE Status: 1 NOTE See ‘/Users/biocbuild/bbs-3.21-bioc/meat/BindingSiteFinder.Rcheck/00check.log’ for details.