Package: BindingSiteFinder Version: 2.5.2 Command: /home/biocbuild/bbs-3.21-bioc/R/bin/R CMD check --install=check:BindingSiteFinder.install-out.txt --library=/home/biocbuild/bbs-3.21-bioc/R/site-library --timings BindingSiteFinder_2.5.2.tar.gz StartedAt: 2025-02-09 20:20:58 -0500 (Sun, 09 Feb 2025) EndedAt: 2025-02-09 20:36:43 -0500 (Sun, 09 Feb 2025) EllapsedTime: 944.7 seconds RetCode: 0 Status: OK CheckDir: BindingSiteFinder.Rcheck Warnings: 0