Package: BindingSiteFinder Version: 2.5.2 Command: /home/biocbuild/bbs-3.21-bioc/R/bin/R CMD INSTALL BindingSiteFinder StartedAt: 2025-02-04 15:37:22 -0500 (Tue, 04 Feb 2025) EndedAt: 2025-02-04 15:38:06 -0500 (Tue, 04 Feb 2025) EllapsedTime: 44.8 seconds RetCode: 0 Status: OK