Package: BindingSiteFinder Version: 2.5.2 Command: E:\biocbuild\bbs-3.21-bioc\R\bin\R.exe CMD INSTALL BindingSiteFinder StartedAt: 2025-02-04 15:58:24 -0500 (Tue, 04 Feb 2025) EndedAt: 2025-02-04 16:02:08 -0500 (Tue, 04 Feb 2025) EllapsedTime: 223.8 seconds RetCode: 0 Status: OK