Package: BioCartaImage Version: 1.5.0 Command: rm -rf BioCartaImage.buildbin-libdir && mkdir BioCartaImage.buildbin-libdir && /Users/biocbuild/BBS/utils/build-universal.sh BioCartaImage_1.5.0.tar.gz /Library/Frameworks/R.framework/Resources/bin/R BioCartaImage.buildbin-libdir StartedAt: 2025-02-09 22:07:13 -0500 (Sun, 09 Feb 2025) EndedAt: 2025-02-09 22:07:15 -0500 (Sun, 09 Feb 2025) EllapsedTime: 2.1 seconds RetCode: 0 Status: OK PackageFile: BioCartaImage_1.5.0.tgz PackageFileSize: 3.667 MiB