Package: BioCartaImage Version: 1.5.0 Command: /home/biocbuild/R/R/bin/R CMD check --install=check:BioCartaImage.install-out.txt --library=/home/biocbuild/R/R/site-library --no-vignettes --timings BioCartaImage_1.5.0.tar.gz StartedAt: 2025-01-28 03:52:35 -0000 (Tue, 28 Jan 2025) EndedAt: 2025-01-28 03:53:08 -0000 (Tue, 28 Jan 2025) EllapsedTime: 33.1 seconds RetCode: 0 Status: OK CheckDir: BioCartaImage.Rcheck Warnings: 0