Package: BioCartaImage Version: 1.5.0 Command: rm -rf BioCartaImage.buildbin-libdir && mkdir BioCartaImage.buildbin-libdir && /Users/biocbuild/BBS/utils/build-universal.sh BioCartaImage_1.5.0.tar.gz /Library/Frameworks/R.framework/Resources/bin/R BioCartaImage.buildbin-libdir StartedAt: 2025-02-10 00:43:39 -0500 (Mon, 10 Feb 2025) EndedAt: 2025-02-10 00:43:46 -0500 (Mon, 10 Feb 2025) EllapsedTime: 6.9 seconds RetCode: 0 Status: OK PackageFile: BioCartaImage_1.5.0.tgz PackageFileSize: 3.666 MiB