Package: BioCartaImage Version: 1.5.0 Command: /Library/Frameworks/R.framework/Resources/bin/R CMD INSTALL BioCartaImage StartedAt: 2025-02-09 15:04:47 -0500 (Sun, 09 Feb 2025) EndedAt: 2025-02-09 15:05:06 -0500 (Sun, 09 Feb 2025) EllapsedTime: 19.0 seconds RetCode: 0 Status: OK