Package: BioCartaImage Version: 1.5.0 Command: /home/biocbuild/bbs-3.21-bioc/R/bin/R CMD build --keep-empty-dirs --no-resave-data BioCartaImage StartedAt: 2025-02-09 16:21:20 -0500 (Sun, 09 Feb 2025) EndedAt: 2025-02-09 16:21:31 -0500 (Sun, 09 Feb 2025) EllapsedTime: 11.0 seconds RetCode: 0 Status: OK PackageFile: BioCartaImage_1.5.0.tar.gz PackageFileSize: 3.628 MiB