Package: BioCor Version: 1.31.0 Command: rm -rf BioCor.buildbin-libdir && mkdir BioCor.buildbin-libdir && /Users/biocbuild/BBS/utils/build-universal.sh BioCor_1.31.0.tar.gz /Library/Frameworks/R.framework/Resources/bin/R BioCor.buildbin-libdir StartedAt: 2025-02-09 22:07:20 -0500 (Sun, 09 Feb 2025) EndedAt: 2025-02-09 22:07:30 -0500 (Sun, 09 Feb 2025) EllapsedTime: 9.2 seconds RetCode: 0 Status: OK PackageFile: BioCor_1.31.0.tgz PackageFileSize: 1.694 MiB