Package: BioCor Version: 1.31.0 Command: /Library/Frameworks/R.framework/Resources/bin/R CMD check --install=check:BioCor.install-out.txt --library=/Library/Frameworks/R.framework/Resources/library --no-vignettes --timings BioCor_1.31.0.tar.gz StartedAt: 2025-02-09 18:16:00 -0500 (Sun, 09 Feb 2025) EndedAt: 2025-02-09 18:17:05 -0500 (Sun, 09 Feb 2025) EllapsedTime: 64.9 seconds RetCode: 0 Status: OK CheckDir: BioCor.Rcheck Warnings: 0