Package: BioCor Version: 1.31.0 Command: /home/biocbuild/R/R/bin/R CMD build --keep-empty-dirs --no-resave-data BioCor StartedAt: 2025-01-28 21:14:05 -0000 (Tue, 28 Jan 2025) EndedAt: 2025-01-28 21:18:50 -0000 (Tue, 28 Jan 2025) EllapsedTime: 285.1 seconds RetCode: 0 Status: OK PackageFile: BioCor_1.31.0.tar.gz PackageFileSize: 1.208 MiB