Package: BioCor Version: 1.31.0 Command: rm -rf BioCor.buildbin-libdir && mkdir BioCor.buildbin-libdir && /Users/biocbuild/BBS/utils/build-universal.sh BioCor_1.31.0.tar.gz /Library/Frameworks/R.framework/Resources/bin/R BioCor.buildbin-libdir StartedAt: 2025-02-13 00:27:08 -0500 (Thu, 13 Feb 2025) EndedAt: 2025-02-13 00:27:37 -0500 (Thu, 13 Feb 2025) EllapsedTime: 29.2 seconds RetCode: 0 Status: OK PackageFile: BioCor_1.31.0.tgz PackageFileSize: 1.692 MiB