Package: BioCor Version: 1.31.0 Command: /Library/Frameworks/R.framework/Resources/bin/R CMD build --keep-empty-dirs --no-resave-data BioCor StartedAt: 2025-02-09 16:02:50 -0500 (Sun, 09 Feb 2025) EndedAt: 2025-02-09 16:08:00 -0500 (Sun, 09 Feb 2025) EllapsedTime: 310.3 seconds RetCode: 0 Status: OK PackageFile: BioCor_1.31.0.tar.gz PackageFileSize: 1.576 MiB