Package: BioCor Version: 1.31.0 Command: chmod a+r BioCor -R && E:\biocbuild\bbs-3.21-bioc\R\bin\R.exe CMD build --keep-empty-dirs --no-resave-data BioCor StartedAt: 2025-02-12 17:31:36 -0500 (Wed, 12 Feb 2025) EndedAt: 2025-02-12 17:36:22 -0500 (Wed, 12 Feb 2025) EllapsedTime: 285.1 seconds RetCode: 0 Status: OK PackageFile: BioCor_1.31.0.tar.gz PackageFileSize: 1.002 MiB