Package: BioMVCClass Version: 1.75.0 Command: rm -rf BioMVCClass.buildbin-libdir && mkdir BioMVCClass.buildbin-libdir && /Users/biocbuild/BBS/utils/build-universal.sh BioMVCClass_1.75.0.tar.gz /Library/Frameworks/R.framework/Resources/bin/R BioMVCClass.buildbin-libdir StartedAt: 2025-02-09 22:07:33 -0500 (Sun, 09 Feb 2025) EndedAt: 2025-02-09 22:07:36 -0500 (Sun, 09 Feb 2025) EllapsedTime: 3.1 seconds RetCode: 0 Status: OK PackageFile: BioMVCClass_1.75.0.tgz PackageFileSize: 145 KiB