Package: BioMVCClass Version: 1.75.0 Command: /Library/Frameworks/R.framework/Resources/bin/R CMD check --install=check:BioMVCClass.install-out.txt --library=/Library/Frameworks/R.framework/Resources/library --no-vignettes --timings BioMVCClass_1.75.0.tar.gz StartedAt: 2025-02-09 18:17:25 -0500 (Sun, 09 Feb 2025) EndedAt: 2025-02-09 18:17:41 -0500 (Sun, 09 Feb 2025) EllapsedTime: 15.1 seconds RetCode: 0 Status: OK CheckDir: BioMVCClass.Rcheck Warnings: 0