Package: BioMVCClass Version: 1.75.0 Command: /Library/Frameworks/R.framework/Resources/bin/R CMD INSTALL BioMVCClass StartedAt: 2025-02-12 15:03:04 -0500 (Wed, 12 Feb 2025) EndedAt: 2025-02-12 15:03:13 -0500 (Wed, 12 Feb 2025) EllapsedTime: 8.8 seconds RetCode: 0 Status: OK