Package: BioMVCClass Version: 1.75.0 Command: /home/biocbuild/R/R/bin/R CMD build --keep-empty-dirs --no-resave-data BioMVCClass StartedAt: 2025-01-28 21:19:07 -0000 (Tue, 28 Jan 2025) EndedAt: 2025-01-28 21:19:15 -0000 (Tue, 28 Jan 2025) EllapsedTime: 8.0 seconds RetCode: 0 Status: OK PackageFile: BioMVCClass_1.75.0.tar.gz PackageFileSize: 129 KiB