Package: BioMVCClass Version: 1.75.0 Command: /home/biocbuild/R/R/bin/R CMD check --install=check:BioMVCClass.install-out.txt --library=/home/biocbuild/R/R/site-library --no-vignettes --timings BioMVCClass_1.75.0.tar.gz StartedAt: 2025-01-28 03:56:33 -0000 (Tue, 28 Jan 2025) EndedAt: 2025-01-28 08:31:25 -0000 (Tue, 28 Jan 2025) EllapsedTime: 16492.3 seconds RetCode: None Status: TIMEOUT CheckDir: BioMVCClass.Rcheck Warnings: NA