Package: BioMVCClass Version: 1.75.0 Command: /home/biocbuild/R/R/bin/R CMD INSTALL BioMVCClass StartedAt: 2025-01-29 19:35:05 -0000 (Wed, 29 Jan 2025) EndedAt: 2025-01-29 19:35:21 -0000 (Wed, 29 Jan 2025) EllapsedTime: 16.0 seconds RetCode: 0 Status: OK