Package: BioMVCClass Version: 1.75.0 Command: /Library/Frameworks/R.framework/Resources/bin/R CMD build --keep-empty-dirs --no-resave-data BioMVCClass StartedAt: 2025-02-09 16:04:10 -0500 (Sun, 09 Feb 2025) EndedAt: 2025-02-09 16:04:20 -0500 (Sun, 09 Feb 2025) EllapsedTime: 10.2 seconds RetCode: 0 Status: OK PackageFile: BioMVCClass_1.75.0.tar.gz PackageFileSize: 131.4 KiB