Package: BioMVCClass Version: 1.75.0 Command: /home/biocbuild/bbs-3.21-bioc/R/bin/R CMD build --keep-empty-dirs --no-resave-data BioMVCClass StartedAt: 2025-02-09 16:24:02 -0500 (Sun, 09 Feb 2025) EndedAt: 2025-02-09 16:24:09 -0500 (Sun, 09 Feb 2025) EllapsedTime: 7.0 seconds RetCode: 0 Status: OK PackageFile: BioMVCClass_1.75.0.tar.gz PackageFileSize: 131.3 KiB