Package: BioMVCClass Version: 1.75.0 Command: /home/biocbuild/bbs-3.21-bioc/R/bin/R CMD check --install=check:BioMVCClass.install-out.txt --library=/home/biocbuild/bbs-3.21-bioc/R/site-library --timings BioMVCClass_1.75.0.tar.gz StartedAt: 2025-02-09 20:27:12 -0500 (Sun, 09 Feb 2025) EndedAt: 2025-02-09 20:27:43 -0500 (Sun, 09 Feb 2025) EllapsedTime: 31.0 seconds RetCode: 0 Status: OK CheckDir: BioMVCClass.Rcheck Warnings: 0