Package: BioMVCClass Version: 1.75.0 Command: rm -rf BioMVCClass.buildbin-libdir && mkdir BioMVCClass.buildbin-libdir && E:\biocbuild\bbs-3.21-bioc\R\bin\R.exe CMD INSTALL --build --library=BioMVCClass.buildbin-libdir BioMVCClass_1.75.0.tar.gz StartedAt: 2025-02-13 07:30:52 -0500 (Thu, 13 Feb 2025) EndedAt: 2025-02-13 07:31:26 -0500 (Thu, 13 Feb 2025) EllapsedTime: 34.6 seconds RetCode: 0 Status: OK PackageFile: BioMVCClass_1.75.0.zip PackageFileSize: 148.3 KiB