Package: BioMVCClass Version: 1.75.0 Command: E:\biocbuild\bbs-3.21-bioc\R\bin\R.exe CMD INSTALL BioMVCClass StartedAt: 2025-02-12 15:47:58 -0500 (Wed, 12 Feb 2025) EndedAt: 2025-02-12 15:48:24 -0500 (Wed, 12 Feb 2025) EllapsedTime: 26.1 seconds RetCode: 0 Status: OK