Package: BioNet Version: 1.67.0 Command: rm -rf BioNet.buildbin-libdir && mkdir BioNet.buildbin-libdir && /Users/biocbuild/BBS/utils/build-universal.sh BioNet_1.67.0.tar.gz /Library/Frameworks/R.framework/Resources/bin/R BioNet.buildbin-libdir StartedAt: 2025-02-10 00:44:11 -0500 (Mon, 10 Feb 2025) EndedAt: 2025-02-10 00:44:33 -0500 (Mon, 10 Feb 2025) EllapsedTime: 21.9 seconds RetCode: 0 Status: OK PackageFile: BioNet_1.67.0.tgz PackageFileSize: 1.526 MiB