Package: BioNet Version: 1.67.0 Command: /Library/Frameworks/R.framework/Resources/bin/R CMD check --install=check:BioNet.install-out.txt --library=/Library/Frameworks/R.framework/Resources/library --no-vignettes --timings BioNet_1.67.0.tar.gz StartedAt: 2025-02-09 19:22:10 -0500 (Sun, 09 Feb 2025) EndedAt: 2025-02-09 19:28:09 -0500 (Sun, 09 Feb 2025) EllapsedTime: 358.6 seconds RetCode: 0 Status: OK CheckDir: BioNet.Rcheck Warnings: 0