Package: BioNet Version: 1.67.0 Command: /home/biocbuild/bbs-3.21-bioc/R/bin/R CMD build --keep-empty-dirs --no-resave-data BioNet StartedAt: 2025-02-09 16:24:23 -0500 (Sun, 09 Feb 2025) EndedAt: 2025-02-09 16:25:14 -0500 (Sun, 09 Feb 2025) EllapsedTime: 50.0 seconds RetCode: 0 Status: OK PackageFile: BioNet_1.67.0.tar.gz PackageFileSize: 1.801 MiB