Package: BioNet Version: 1.67.0 Command: /home/biocbuild/bbs-3.21-bioc/R/bin/R CMD INSTALL BioNet StartedAt: 2025-02-09 15:25:04 -0500 (Sun, 09 Feb 2025) EndedAt: 2025-02-09 15:25:18 -0500 (Sun, 09 Feb 2025) EllapsedTime: 14.0 seconds RetCode: 0 Status: OK