Package: BioQC Version: 1.35.0 Command: rm -rf BioQC.buildbin-libdir && mkdir BioQC.buildbin-libdir && /Users/biocbuild/BBS/utils/build-universal.sh BioQC_1.35.0.tar.gz /Library/Frameworks/R.framework/Resources/bin/R BioQC.buildbin-libdir StartedAt: 2025-02-09 22:07:36 -0500 (Sun, 09 Feb 2025) EndedAt: 2025-02-09 22:07:43 -0500 (Sun, 09 Feb 2025) EllapsedTime: 7.1 seconds RetCode: 0 Status: OK PackageFile: BioQC_1.35.0.tgz PackageFileSize: 4.12 MiB