Package: BioQC Version: 1.35.0 Command: /Library/Frameworks/R.framework/Resources/bin/R CMD build --keep-empty-dirs --no-resave-data BioQC StartedAt: 2025-02-12 15:42:55 -0500 (Wed, 12 Feb 2025) EndedAt: 2025-02-12 15:43:40 -0500 (Wed, 12 Feb 2025) EllapsedTime: 45.4 seconds RetCode: 0 Status: OK PackageFile: BioQC_1.35.0.tar.gz PackageFileSize: 4.301 MiB