Package: BioQC Version: 1.35.0 Command: /home/biocbuild/R/R/bin/R CMD build --keep-empty-dirs --no-resave-data BioQC StartedAt: 2025-01-28 21:19:47 -0000 (Tue, 28 Jan 2025) EndedAt: 2025-01-28 21:22:48 -0000 (Tue, 28 Jan 2025) EllapsedTime: 181.0 seconds RetCode: 0 Status: OK PackageFile: BioQC_1.35.0.tar.gz PackageFileSize: 4.301 MiB