Package: BioTIP Version: 1.21.0 Command: rm -rf BioTIP.buildbin-libdir && mkdir BioTIP.buildbin-libdir && /Users/biocbuild/BBS/utils/build-universal.sh BioTIP_1.21.0.tar.gz /Library/Frameworks/R.framework/Resources/bin/R BioTIP.buildbin-libdir StartedAt: 2025-02-09 22:07:38 -0500 (Sun, 09 Feb 2025) EndedAt: 2025-02-09 22:07:45 -0500 (Sun, 09 Feb 2025) EllapsedTime: 7.1 seconds RetCode: 0 Status: OK PackageFile: BioTIP_1.21.0.tgz PackageFileSize: 7.181 MiB