Package: BioTIP Version: 1.21.0 Command: /Library/Frameworks/R.framework/Resources/bin/R CMD check --install=check:BioTIP.install-out.txt --library=/Library/Frameworks/R.framework/Resources/library --no-vignettes --timings BioTIP_1.21.0.tar.gz StartedAt: 2025-02-09 18:18:17 -0500 (Sun, 09 Feb 2025) EndedAt: 2025-02-09 18:19:00 -0500 (Sun, 09 Feb 2025) EllapsedTime: 42.5 seconds RetCode: 0 Status: WARNINGS CheckDir: BioTIP.Rcheck Warnings: 2