Package: BioTIP Version: 1.21.0 Command: /Library/Frameworks/R.framework/Resources/bin/R CMD build --keep-empty-dirs --no-resave-data BioTIP StartedAt: 2025-02-09 16:04:48 -0500 (Sun, 09 Feb 2025) EndedAt: 2025-02-09 16:06:43 -0500 (Sun, 09 Feb 2025) EllapsedTime: 114.9 seconds RetCode: 0 Status: OK PackageFile: BioTIP_1.21.0.tar.gz PackageFileSize: 41.57 MiB